BEGIN:VCALENDAR
VERSION:2.0
PRODID:spatie/icalendar-generator
NAME:AI in Sport Summit 2026
X-WR-CALNAME:AI in Sport Summit 2026
BEGIN:VEVENT
UID:event_1140@baeventures.com
DTSTAMP:20260423T171900Z
SUMMARY:AI in Sport Summit 2026
DESCRIPTION:The AI In Sport Summit expands with four powerful themes shapin
 g the next era of sport business: Performance Intelligence. Organisational
  Transformation. Commercial Growth. Digital Marketing. The Summit gives yo
 u the knowledge and capability to put AI to work in your organisation. Whe
 ther you’re leading strategy\, driving commercial growth\, shaping perfo
 rmance systems\, or elevating digital engagement\, this is where sport pro
 fessionals come to build the AI skills and confidence needed to future-pro
 of their business in an increasingly competitive landscape.\n\nType: Physi
 cal Event\n\nTags: Sport businness<br />\nAI<br />\nPerformance Intellig
 ence<br />\nOrganisational Transformation<br />\nCommercial Growth<br />
 \nDigital Marketing.
URL:https://www.baeventures.com/en/events/ai-in-sport-summit-2026/1140/
DTSTART;VALUE=DATE:20260513
DTEND;VALUE=DATE:20260514
BEGIN:VALARM
ACTION:DISPLAY
TRIGGER:-PT60M
END:VALARM
END:VEVENT
END:VCALENDAR