BEGIN:VCALENDAR
VERSION:2.0
PRODID:spatie/icalendar-generator
NAME:BLTM 2025
X-WR-CALNAME:BLTM 2025
BEGIN:VEVENT
UID:event_745@baeventures.com
DTSTAMP:20260423T155538Z
SUMMARY:BLTM 2025
DESCRIPTION:BLTM is an exclusive B2B travel mart focussed on Business+Leisu
 re Travel and MICE\nBLTM provides unprecedented access to the cream of bu
 yers from the North Indian market as well as hosted buyers\, specifically 
 chosen from Business+Leisure and MICE travel segments from all over India 
 and abroad.\nThe event guarantees an exceptional gathering of quality buy
 ers and sellers\, fostering invaluable networking opportunities\, all with
 in a world-class setting.\n \n\nType: Physical Event
URL:https://www.baeventures.com/en/events/bltm-2025/745/
DTSTART;VALUE=DATE:20250911
DTEND;VALUE=DATE:20250914
BEGIN:VALARM
ACTION:DISPLAY
TRIGGER:-PT60M
END:VALARM
END:VEVENT
END:VCALENDAR