BEGIN:VCALENDAR
VERSION:2.0
PRODID:spatie/icalendar-generator
NAME:Hello Tomorrow - Global Summit
X-WR-CALNAME:Hello Tomorrow - Global Summit
BEGIN:VEVENT
UID:event_421@baeventures.com
DTSTAMP:20260425T214524Z
SUMMARY:Hello Tomorrow - Global Summit
DESCRIPTION:Hello Tomorrow was created by a group of individuals convinced 
 that science has the potential to change the world for the better\, but th
 at the traditional model of technology transfer to bring solutions from la
 b to market – and from idea to impact – could not rise to this challen
 ge. Since then we have built and orchestrated the largest and widest Deep 
 Tech network as well as helping Deep Tech startups and corporations build 
 new solutions.\n\nType: Physical Event
URL:https://www.baeventures.com/en/events/hello-tomorrow-global-summit/421/
DTSTART;VALUE=DATE:20260611
DTEND;VALUE=DATE:20260613
BEGIN:VALARM
ACTION:DISPLAY
TRIGGER:-PT60M
END:VALARM
END:VEVENT
END:VCALENDAR