BEGIN:VCALENDAR
VERSION:2.0
PRODID:spatie/icalendar-generator
NAME:Skift Asia Forum
X-WR-CALNAME:Skift Asia Forum
BEGIN:VEVENT
UID:event_1182@baeventures.com
DTSTAMP:20260423T172015Z
SUMMARY:Skift Asia Forum
DESCRIPTION:As Asia reinforces its position as travel’s growth engine and
  its most influential first mover\, Skift Asia Forum returns to Bangkok co
 nvening the leaders defining the region’s next chapter through our theme
 : Scaling Growth and Reinvention.\nThis curated gathering brings together
  senior executives and innovators reshaping aviation\, hospitality\, desti
 nations\, and travel technology for two days of discussion centered on rea
 l business strategy and decision-making\, not abstractions.\nThrough cand
 id conversations\, sharp analysis\, and peer-level exchange\, the Forum cu
 ts through the noise to examine how Asia is scaling demand\, navigating di
 sruption\, and setting models the global industry is now watching.\n\nType
 : Physical Event
URL:https://www.baeventures.com/en/events/skift-asia-forum/1182/
DTSTART;VALUE=DATE:20260428
DTEND;VALUE=DATE:20260430
BEGIN:VALARM
ACTION:DISPLAY
TRIGGER:-PT60M
END:VALARM
END:VEVENT
END:VCALENDAR