BEGIN:VCALENDAR
VERSION:2.0
PRODID:spatie/icalendar-generator
NAME:Web Summit Lisboa
X-WR-CALNAME:Web Summit Lisboa
BEGIN:VEVENT
UID:event_412@baeventures.com
DTSTAMP:20260420T033410Z
SUMMARY:Web Summit Lisboa
DESCRIPTION:We gather policymakers\, heads of state\, and the founders and 
 CEOs of technology companies and fast-growing startups\, to ask a simple q
 uestion: Where to next?\n\nType: Physical Event
URL:https://www.baeventures.com/en/events/web-summit-lisboa/412/
DTSTART;VALUE=DATE:20241111
DTEND;VALUE=DATE:20241115
BEGIN:VALARM
ACTION:DISPLAY
TRIGGER:-PT60M
END:VALARM
END:VEVENT
END:VCALENDAR