BEGIN:VCALENDAR
VERSION:2.0
PRODID:spatie/icalendar-generator
NAME:You\, Me & The machine
X-WR-CALNAME:You\, Me & The machine
BEGIN:VEVENT
UID:event_681@baeventures.com
DTSTAMP:20260423T082319Z
SUMMARY:You\, Me & The machine
DESCRIPTION:In the face of extraordinary events\, resilience and reinventio
 n are often the only recourse.\nMany Europeans continue to prioritize tra
 vel with distinct preferences and expectations that emphasize personalizat
 ion and convenience. But as the industry surges ahead\, a collection of fo
 rces – some that have deepened over decades\, and others now rapidly rac
 ing forward – stand ready to transform how travel businesses must operat
 e to compete.\nOnce again\, travel sits on the cusp of massive change.\n
 Fast and powerful advances in AI have massive applications for every aspec
 t of travel – from how businesses operate internally to how European con
 sumers from a diverse range of rich cultures\, developed and emerging mark
 ets and interwoven economies experience the world. The Machine’s alarmin
 g pace of change is demanding a rethink of our products\, services and reg
 ulatory framework. Will the pace of AI deployment in travel tech surface r
 egulatory challenges and opportunities around identity and privacy? Can th
 e latest advancements sync with sustainability demands and expectations? A
 nd for an industry built on relationships\, what does it portend if AI can
  replace us?\nTravel’s biggest players with seemingly unlimited resourc
 es continue to tighten their grip on markets\, segments and distribution c
 hannels\, lengthening the odds for others to establish an edge. Meanwhile 
 economic and sensitive environmental factors raise the bar for survival.\
 n \n\nType: Physical Event\n\nTags: AI<br />\nHospitality<br />\nMachin
 e 
URL:https://www.baeventures.com/en/events/you-me-the-machine/681/
DTSTART;VALUE=DATE:20250610
DTEND;VALUE=DATE:20250613
BEGIN:VALARM
ACTION:DISPLAY
TRIGGER:-PT60M
END:VALARM
END:VEVENT
END:VCALENDAR