BEGIN:VCALENDAR
VERSION:2.0
PRODID:spatie/icalendar-generator
NAME:eMerge Americas
X-WR-CALNAME:eMerge Americas
BEGIN:VEVENT
UID:event_1064@baeventures.com
DTSTAMP:20260423T171701Z
SUMMARY:eMerge Americas
DESCRIPTION:eMerge Americas is advancing technological innovation and shapi
 ng the future of tech. At this year’s annual conference + expo\, our 10 
 unique content themes delve into how technology is rapidly evolving and th
 e top trends of today and tomorrow\, including AI + quantum computing\, fi
 ntech\, healthtech\, entrepreneurship\, investments and so much more.\nCo
 nnect with over 20\,000 of the world’s boldest tech innovators\, visiona
 ry entrepreneurs\, savvy investors\, cutting-edge industry experts\, and d
 ynamic business leaders—all ready to ignite the future of technology on 
 a global scale at eMerge Americas\n\nType: Physical Event
URL:https://www.baeventures.com/en/events/emerge-americas/1064/
DTSTART;VALUE=DATE:20260423
DTEND;VALUE=DATE:20260425
BEGIN:VALARM
ACTION:DISPLAY
TRIGGER:-PT60M
END:VALARM
END:VEVENT
END:VCALENDAR